BEGIN:VCALENDAR
VERSION:2.0
PRODID:-//Heavenly Health &amp; Holistic Wellness Coaching - ECPv5.7.0//NONSGML v1.0//EN
CALSCALE:GREGORIAN
METHOD:PUBLISH
X-WR-CALNAME:Heavenly Health &amp; Holistic Wellness Coaching
X-ORIGINAL-URL:https://steps2wellness.ca
X-WR-CALDESC:Events for Heavenly Health &amp; Holistic Wellness Coaching
BEGIN:VTIMEZONE
TZID:America/Vancouver
BEGIN:DAYLIGHT
TZOFFSETFROM:-0800
TZOFFSETTO:-0700
TZNAME:PDT
DTSTART:20210314T100000
END:DAYLIGHT
BEGIN:STANDARD
TZOFFSETFROM:-0700
TZOFFSETTO:-0800
TZNAME:PST
DTSTART:20211107T090000
END:STANDARD
END:VTIMEZONE
BEGIN:VEVENT
DTSTART;TZID=America/Vancouver:20210408T164900
DTEND;TZID=America/Vancouver:20210408T164900
DTSTAMP:20260422T160451
CREATED:20190808T193947Z
LAST-MODIFIED:20210408T235242Z
UID:311-1617900540-1617900540@steps2wellness.ca
SUMMARY:Discovery Sessions - Ongoing
DESCRIPTION:Learn more about Heavenly Health and Holistic Wellness Coaching by taking advantage of our FREE discovery session.
URL:https://steps2wellness.ca/event/magic-marathon/
LOCATION:Online Video/Phone Call\, Anywhere\, Yours
CATEGORIES:Sport
ATTACH;FMTTYPE=image/jpeg:https://steps2wellness.ca/wp-content/uploads/2019/08/stretched-hand-palm-with-black-metal-compass-again-NPMB4KQ-1046.jpg
ORGANIZER;CN="Rosaleen%20fitness%20team":MAILTO:yoursite@example.com
END:VEVENT
END:VCALENDAR